BEGIN:VCALENDAR
VERSION:2.0
PRODID:-//La Mane Balma - ECPv6.15.20//NONSGML v1.0//EN
CALSCALE:GREGORIAN
METHOD:PUBLISH
X-ORIGINAL-URL:https://lamane-balma.com
X-WR-CALDESC:Évènements pour La Mane Balma
REFRESH-INTERVAL;VALUE=DURATION:PT1H
X-Robots-Tag:noindex
X-PUBLISHED-TTL:PT1H
BEGIN:VTIMEZONE
TZID:Europe/Paris
BEGIN:DAYLIGHT
TZOFFSETFROM:+0100
TZOFFSETTO:+0200
TZNAME:CEST
DTSTART:20230326T010000
END:DAYLIGHT
BEGIN:STANDARD
TZOFFSETFROM:+0200
TZOFFSETTO:+0100
TZNAME:CET
DTSTART:20231029T010000
END:STANDARD
BEGIN:DAYLIGHT
TZOFFSETFROM:+0100
TZOFFSETTO:+0200
TZNAME:CEST
DTSTART:20240331T010000
END:DAYLIGHT
BEGIN:STANDARD
TZOFFSETFROM:+0200
TZOFFSETTO:+0100
TZNAME:CET
DTSTART:20241027T010000
END:STANDARD
BEGIN:DAYLIGHT
TZOFFSETFROM:+0100
TZOFFSETTO:+0200
TZNAME:CEST
DTSTART:20250330T010000
END:DAYLIGHT
BEGIN:STANDARD
TZOFFSETFROM:+0200
TZOFFSETTO:+0100
TZNAME:CET
DTSTART:20251026T010000
END:STANDARD
END:VTIMEZONE
BEGIN:VEVENT
DTSTART;TZID=Europe/Paris:20240426T123000
DTEND;TZID=Europe/Paris:20240426T133000
DTSTAMP:20260419T190049
CREATED:20240420T093326Z
LAST-MODIFIED:20240420T093331Z
UID:36334-1714134600-1714138200@lamane-balma.com
SUMMARY:Atelier découverte Collage
DESCRIPTION: \nà La Mane Balma – 9 avenue de Lagarde \n			\n				\n				\n				\n				\n				\n			\n				\n				\n				\n				\n				\n			\n				\n				\n				\n				\n				Le vendredi 26 avril de 12h30 à 13h30 \nAtelier découverte Collage\, venez laisser parler votre créativité en toute liberté  \nTarif : 12 € Tout le matériel est fourni \nInfos et réservation : Anne Rival \nTel : 06 09 11 19 42 \nMail : couleurdesoi@gmail.com
URL:https://lamane-balma.com/evenement/atelier-decouverte-collage/
CATEGORIES:Ateliers
END:VEVENT
BEGIN:VEVENT
DTSTART;TZID=Europe/Paris:20240426T180000
DTEND;TZID=Europe/Paris:20240426T200000
DTSTAMP:20260419T190050
CREATED:20240420T094424Z
LAST-MODIFIED:20240422T082902Z
UID:36343-1714154400-1714161600@lamane-balma.com
SUMMARY:Atelier couleur avec la peinture aquarelle selon la Méthode de Margareth Hauschka
DESCRIPTION: \nà La Mane Balma – 9 avenue de Lagarde \n			\n				\n				\n				\n				\n				\n			\n				\n				\n				\n				\n				\n			\n				\n				\n				\n				\n				Le vendredi 27 avril de 18h00 à 20h00 \nAtelier couleur avec la peinture aquarelle selon la Méthode de Margareth Hauschka \nTarif : 25 €\, 20 € par carte de 5 \nTout le matériel est fourni\, 4 personnes maximum \nInfos et réservation : Anne Rival \nTel : 06 09 11 19 42 \nMail : couleurdesoi@gmail.com
URL:https://lamane-balma.com/evenement/atelier-couleur-avec-la-peinture-aquarelle-selon-la-methode-de-margareth-hauschka-6/
CATEGORIES:Ateliers
END:VEVENT
END:VCALENDAR