BEGIN:VCALENDAR
VERSION:2.0
PRODID:-//La Mane Balma - ECPv6.15.20//NONSGML v1.0//EN
CALSCALE:GREGORIAN
METHOD:PUBLISH
X-ORIGINAL-URL:https://lamane-balma.com
X-WR-CALDESC:Évènements pour La Mane Balma
REFRESH-INTERVAL;VALUE=DURATION:PT1H
X-Robots-Tag:noindex
X-PUBLISHED-TTL:PT1H
BEGIN:VTIMEZONE
TZID:Europe/Paris
BEGIN:DAYLIGHT
TZOFFSETFROM:+0100
TZOFFSETTO:+0200
TZNAME:CEST
DTSTART:20220327T010000
END:DAYLIGHT
BEGIN:STANDARD
TZOFFSETFROM:+0200
TZOFFSETTO:+0100
TZNAME:CET
DTSTART:20221030T010000
END:STANDARD
BEGIN:DAYLIGHT
TZOFFSETFROM:+0100
TZOFFSETTO:+0200
TZNAME:CEST
DTSTART:20230326T010000
END:DAYLIGHT
BEGIN:STANDARD
TZOFFSETFROM:+0200
TZOFFSETTO:+0100
TZNAME:CET
DTSTART:20231029T010000
END:STANDARD
BEGIN:DAYLIGHT
TZOFFSETFROM:+0100
TZOFFSETTO:+0200
TZNAME:CEST
DTSTART:20240331T010000
END:DAYLIGHT
BEGIN:STANDARD
TZOFFSETFROM:+0200
TZOFFSETTO:+0100
TZNAME:CET
DTSTART:20241027T010000
END:STANDARD
END:VTIMEZONE
BEGIN:VEVENT
DTSTART;TZID=Europe/Paris:20231014T080000
DTEND;TZID=Europe/Paris:20231015T170000
DTSTAMP:20260420T040247
CREATED:20230918T075356Z
LAST-MODIFIED:20230918T080156Z
UID:35293-1697270400-1697389200@lamane-balma.com
SUMMARY:Atelier d'Éveil et de transformations profondes
DESCRIPTION:Les 14 et 15 octobre 2023 \nÀ la rencontre de ce feu d’Or qui allie l’Esprit et le cœur de sa nature Divine.\n\n			\n				\n				\n				\n				\n				\n			\n				\n				\n				\n				\n				Un atelier spécifique en ouverture à l’Esprit\nPour éveiller son soleil intérieur en union avec l’amour Source\,S’affirmer par sa vibration Divine et accepter les transmutations intérieures bénéfiques à sa propre ascension. \nCet atelier est une invitation à découvrir la connaissance de l’Unité\, à augmenter sa clairvoyance au service de l’Âme\, à ouvrir une porte vers d’autres Mondes\, à lâcher des croyances basées sur des fonctionnements de peurs et des réflexes de survies qui n’ont plus lieu d’être dans la nouvelle conscience qui nous invite aujourd’hui. Nous sommes des êtres Divins qui cherchons à manifester notre essence et à s’unir pour co-créer un monde qui nous ressemble et nous rassemble. \nEn cercle\, dans un espace sécurisant d’amour et de fraternité\, nous nous préparerons\, en frères et sœurs d’âmes\, à entrer en soi-même et à s’unifier dans la conscience de nos Êtres Divins. Chacun à l’écoute de son intuition\, facilitera l’ouverture et le renforcement du canal unique d’amour et de lumière de l’autre. Ce qui favorisera la rencontre des mémoires cristallisées des blessures passées qui montent encore la garde. Notre cœur est un véritable alchimiste qu’il nous est proposé de découvrir durant ces deux journées. \nCet atelier vous offre: \n• De recevoir une guidance personnalisée au service des transformations;• De se libérer des mémoires qui apportent tristesses\, souffrances\, blocages\, anxiétés et frustrations;• D’être initié à sa propre capacité de transformations;• De changer définitivement ses schémas répétitifs nuisant à la paix\, l’équilibre et à lebien-être profond;• De découvrir les lois de l’univers servant à nous aimer;• De découvrir l’émergence de la co-créativité\, à partir des complémentarités de chacun auservice du Tout;• D’amplifier la confiance en la guidance de notre âme;• D’être ouvert à la grâce et au mystère du Divin. \nMéditations – Rituels – Soins – Tambour\nVeuillez vous inscrire par mail\, au plus tard\, le 08 octobreMail : guylaberthe52@gmail.comTel : Guy Laberthe : +33 06 08 32 30 17Lieu: Espace de bien être:La Mane – 9 Av. de Lagarde\, 31130 Balma\, FranceHeures: 9h30 à 18h30. Merci d’arriver au plus tard à 9h15 pour démarrer à 9h30 \nÀ apporter: de quoi écrire\, un tapis de sol\, couverture\, coussin pour la tête\, votre lunch du midi\, votre gourde d’eau\, votre tambour si vous en avez un\, des grosses chaussettes ou pantoufles\, Une image qui vous tient particulièrement à cœur que vous aurez découpé dans une revue. \nPrix: 200 euros à payer cash sur place.Possibilité de payer en deux fois. Voir avec Guy Laberthe pour les modalités. \nPour plus d‘informations\, je vous invite à visiter mon site.www.florence-beliard.be
URL:https://lamane-balma.com/evenement/atelier-deveil-et-de-transformations-profondes/
CATEGORIES:Ateliers
END:VEVENT
END:VCALENDAR