BEGIN:VCALENDAR
VERSION:2.0
PRODID:-//La Mane Balma - ECPv6.15.20//NONSGML v1.0//EN
CALSCALE:GREGORIAN
METHOD:PUBLISH
X-WR-CALNAME:La Mane Balma
X-ORIGINAL-URL:https://lamane-balma.com
X-WR-CALDESC:Évènements pour La Mane Balma
REFRESH-INTERVAL;VALUE=DURATION:PT1H
X-Robots-Tag:noindex
X-PUBLISHED-TTL:PT1H
BEGIN:VTIMEZONE
TZID:Europe/Paris
BEGIN:DAYLIGHT
TZOFFSETFROM:+0100
TZOFFSETTO:+0200
TZNAME:CEST
DTSTART:20220327T010000
END:DAYLIGHT
BEGIN:STANDARD
TZOFFSETFROM:+0200
TZOFFSETTO:+0100
TZNAME:CET
DTSTART:20221030T010000
END:STANDARD
BEGIN:DAYLIGHT
TZOFFSETFROM:+0100
TZOFFSETTO:+0200
TZNAME:CEST
DTSTART:20230326T010000
END:DAYLIGHT
BEGIN:STANDARD
TZOFFSETFROM:+0200
TZOFFSETTO:+0100
TZNAME:CET
DTSTART:20231029T010000
END:STANDARD
BEGIN:DAYLIGHT
TZOFFSETFROM:+0100
TZOFFSETTO:+0200
TZNAME:CEST
DTSTART:20240331T010000
END:DAYLIGHT
BEGIN:STANDARD
TZOFFSETFROM:+0200
TZOFFSETTO:+0100
TZNAME:CET
DTSTART:20241027T010000
END:STANDARD
END:VTIMEZONE
BEGIN:VEVENT
DTSTART;TZID=Europe/Paris:20231005T203000
DTEND;TZID=Europe/Paris:20231005T223000
DTSTAMP:20260420T035919
CREATED:20230925T081034Z
LAST-MODIFIED:20231002T083848Z
UID:35388-1696537800-1696545000@lamane-balma.com
SUMMARY:Atelier : voyage SON-OR
DESCRIPTION:Tous les jeudis\, non réservé aux cercles d’hommes et aux cercles de femmes\, je vous propose un temps de 2h pour explorer un voyage SON-OR. \nEn préambule de chaque soirée\, nous prendrons un temps de reliance à Soi et d’ancrage\, pour accueillir pleinement ce bain vibratoire.Je vous enseignerai des pratiques simples pour fluidifier les canaux de réception\, \nNous pourrons alors accueillir\, en toute sérénité et sécurité\, vivre pleinement ce voyage SON-OR\, par l’alliance des vibrations du Gong Solaire\, plaque harmonique et bols (tibétain et cristal). \nNous clôturerons par un retour en douceur\, à Soi et de partage. \nPour une information de chaque jeudi\, consulter mon Facebook\, Instagram ou encore le site qui est en cours de mise à jour du calendrier. \nTarif : 20€ \nLieu : Nouvelle Salle le jeudi soir de 20h30 à 22h30. \nInformations & Inscriptions :Mail : lavoiedelasimplicite@gmail.comTéléphone : 06 18 88 23 77Mail : lavoiedelasimplicite@gmail.comSite internet : https://lavoiedelasimplicite.frFacebook : https://www.facebook.com/profile.php?id=100080414156441https://www.facebook.com/voievoix
URL:https://lamane-balma.com/evenement/atelier-voyage-son-or/
CATEGORIES:Ateliers
END:VEVENT
END:VCALENDAR