BEGIN:VCALENDAR
VERSION:2.0
PRODID:-//La Mane Balma - ECPv6.15.20//NONSGML v1.0//EN
CALSCALE:GREGORIAN
METHOD:PUBLISH
X-ORIGINAL-URL:https://lamane-balma.com
X-WR-CALDESC:Évènements pour La Mane Balma
REFRESH-INTERVAL;VALUE=DURATION:PT1H
X-Robots-Tag:noindex
X-PUBLISHED-TTL:PT1H
BEGIN:VTIMEZONE
TZID:Europe/Paris
BEGIN:DAYLIGHT
TZOFFSETFROM:+0100
TZOFFSETTO:+0200
TZNAME:CEST
DTSTART:20220327T010000
END:DAYLIGHT
BEGIN:STANDARD
TZOFFSETFROM:+0200
TZOFFSETTO:+0100
TZNAME:CET
DTSTART:20221030T010000
END:STANDARD
BEGIN:DAYLIGHT
TZOFFSETFROM:+0100
TZOFFSETTO:+0200
TZNAME:CEST
DTSTART:20230326T010000
END:DAYLIGHT
BEGIN:STANDARD
TZOFFSETFROM:+0200
TZOFFSETTO:+0100
TZNAME:CET
DTSTART:20231029T010000
END:STANDARD
BEGIN:DAYLIGHT
TZOFFSETFROM:+0100
TZOFFSETTO:+0200
TZNAME:CEST
DTSTART:20240331T010000
END:DAYLIGHT
BEGIN:STANDARD
TZOFFSETFROM:+0200
TZOFFSETTO:+0100
TZNAME:CET
DTSTART:20241027T010000
END:STANDARD
END:VTIMEZONE
BEGIN:VEVENT
DTSTART;TZID=Europe/Paris:20230725T180000
DTEND;TZID=Europe/Paris:20230725T193000
DTSTAMP:20260420T081738
CREATED:20230605T085334Z
LAST-MODIFIED:20230605T085357Z
UID:35081-1690308000-1690313400@lamane-balma.com
SUMMARY:Atelier apaiser ses émotions et son stress avec les automassages et le qi gong
DESCRIPTION:Mardi 25 juillet à 18h \nLors de cet atelier nous allons apprendre à s’ancrer par des exercices de QiGong et par le Do In ou automassage de certains points d’acupuncture.\nDes pratiques simples à réaliser soi-même pour apaiser les tensions\, s’ancrer et prendre un temps pour soi. \nDurée : 1h30 \nInfos et Inscriptions : \navec Claire LESAGE\nTéléphone : 06 50 60 91 01\nMail : lesageclaire@yahoo.fr
URL:https://lamane-balma.com/evenement/atelier-apaiser-ses-emotions-et-son-stress-avec-les-automassages-et-le-qi-gong-juillet-2023/
CATEGORIES:Ateliers
END:VEVENT
BEGIN:VEVENT
DTSTART;TZID=Europe/Paris:20230725T200000
DTEND;TZID=Europe/Paris:20230725T220000
DTSTAMP:20260420T081738
CREATED:20230605T085130Z
LAST-MODIFIED:20230605T085130Z
UID:35078-1690315200-1690322400@lamane-balma.com
SUMMARY:Atelier ancrage\, qi gong et do in\, automassage
DESCRIPTION:Mardi 25 juillet à 20h \nLors de cet atelier nous allons apprendre à s’ancrer par des exercices de QiGong et par le Do In ou automassage de certains points d’acupuncture.\nDes pratiques simples à réaliser soi-même pour apaiser les tensions\, s’ancrer et prendre un temps pour soi. \nDurée : 1h30 \nInfos et Inscriptions : \navec Claire LESAGE\nTéléphone : 06 50 60 91 01\nMail : lesageclaire@yahoo.fr
URL:https://lamane-balma.com/evenement/atelier-ancrage-qi-gong-et-do-in-automassage-juillet-2023/
CATEGORIES:Ateliers
END:VEVENT
END:VCALENDAR