BEGIN:VCALENDAR
VERSION:2.0
PRODID:-//La Mane Balma - ECPv6.15.20//NONSGML v1.0//EN
CALSCALE:GREGORIAN
METHOD:PUBLISH
X-ORIGINAL-URL:https://lamane-balma.com
X-WR-CALDESC:Évènements pour La Mane Balma
REFRESH-INTERVAL;VALUE=DURATION:PT1H
X-Robots-Tag:noindex
X-PUBLISHED-TTL:PT1H
BEGIN:VTIMEZONE
TZID:Europe/Paris
BEGIN:DAYLIGHT
TZOFFSETFROM:+0100
TZOFFSETTO:+0200
TZNAME:CEST
DTSTART:20220327T010000
END:DAYLIGHT
BEGIN:STANDARD
TZOFFSETFROM:+0200
TZOFFSETTO:+0100
TZNAME:CET
DTSTART:20221030T010000
END:STANDARD
BEGIN:DAYLIGHT
TZOFFSETFROM:+0100
TZOFFSETTO:+0200
TZNAME:CEST
DTSTART:20230326T010000
END:DAYLIGHT
BEGIN:STANDARD
TZOFFSETFROM:+0200
TZOFFSETTO:+0100
TZNAME:CET
DTSTART:20231029T010000
END:STANDARD
BEGIN:DAYLIGHT
TZOFFSETFROM:+0100
TZOFFSETTO:+0200
TZNAME:CEST
DTSTART:20240331T010000
END:DAYLIGHT
BEGIN:STANDARD
TZOFFSETFROM:+0200
TZOFFSETTO:+0100
TZNAME:CET
DTSTART:20241027T010000
END:STANDARD
END:VTIMEZONE
BEGIN:VEVENT
DTSTART;TZID=Europe/Paris:20230615T200000
DTEND;TZID=Europe/Paris:20230615T220000
DTSTAMP:20260420T095309
CREATED:20230529T091605Z
LAST-MODIFIED:20230529T091605Z
UID:35021-1686859200-1686866400@lamane-balma.com
SUMMARY:Cercle d'hommes\, de parole\, de co-développement
DESCRIPTION:Jeudi 15 Juin 2023 à 20h30 \nOuvert à 10 hommes \nOuverture à l’instant présent\, ici et maintenant\, à Soi\, en toute simplicité\, par la parole\, le partage\, être entre hommes\, authentique et sincère\, dans un cadre de bienveillance\, sécurisé\, dans l’accueil de notre Masculin Sacré. \nHomme\, OM\, exprime toi\, ancre toi\, c’est l’heure du R-Eveil … \n UN CERCLE D’HOMME\, POURQUOI ?\nPour aller à la rencontre de ce qui freine son bien-être\, sa joie\, de vivre pleinement en harmonie avec le tout. \nExplorer son Masculin Sacré à travers ces archétypes : \n\nLe Guerrier pacifique\,\nLe Père\, le Fils\, L’enfant\,\nLe compagnon\, l’ami\, l’amant\,\nL’Amour\,\netc …\n\n  \nExplorer une thématique\, une problématique\, expérimenter le processus de CODEV. \nSe retrouver dans un espace ouvert à tous les hommes\, dans l’énergie du Masculin et du Féminin. \nEtre\, être libre\, de s’exprimer\, oser\, être à l’écoute\, participer à la vie de ce groupe d’homme\, le nourrir\, l’enrichir de sa présence. \nLe tout dans la bienveillance\, la confidentialité\, dans cet espace d’intimité\, de floraison de Soi. \n  \nUN OBJECTIF ?\nIncarner pleinement l’homme\, son Masculin Sacré\, unis en lui-même\, dans l’acceptation\, l’accueil\, l’action\, la liberté\, la conscience\, la profondeur\, la puissance\, être Amour. \nChaque pas est un passage\, pour s’incarner pleinement\, chaque jour un peu plus\, relié à Ce qui est. \nL’Homme s’élève\, s’éveille dans ce monde au-delà du voile de l’obscurité et de la dualité. \nC’est Renaitre\, Reconnaitre\, l’essence\, les sens\, qui nous sommes\, Re-connecter\, Re-naitre … \n  \nLE DEROULEMENT D’UNE SOIRÉE ?\nNous nous retrouverons en cercle\, autour de la Fleur de Vie. \nNous nous présenterons lors de notre première rencontre\, et à chaque retrouvaille nous ferons aussi une « météo ». \nNous prendrons un instant d’équilibrage\, de recentrage\, d’ancrage Terre-Ciel. \nNous explorerons ensuite un thème\, un sujet\, une problématique qui préoccupe un homme ou plusieurs hommes. \n  \nMON ACCOMPAGNEMENT ? \nL’ENGAGEMENT DE CHACUN ? \n  \nJe vous accompagne à grandir et à fleurir\, ensemble\, dans la Fraternité\, la Compassion et l’Amour. \nA travers un cercle de parole\, régulier\, une fois par mois\, je suis le guide\, le gardien du temps et de l’espace-temps où la parole\, la Co création\, la libération-guérison est au centre\, l’écoute de notre intériorité\, de notre vérité et de celle des autres hommes présents\, avec respect\, gratitude de ce qui est. \nUne rencontre avec « qui je suis et deviens »\, pour chacun de nous. C’est une ouverture à chaque frère\, à nos différences\, nos richesses\, un miroir de Soi. \nC’est prendre conscience de la joie de la découverte\, la compréhension de la manière d’être en relation. \nChacun de nous s’engage à être vrai\, présent\, respectueux\, contribuer à instaurer la confiance\, à être dans le non jugement de soi et les autres. \nChacun de nous s’engage\, dans ce temps régulier\, où chacun est invité à s’investir pour soi et les autres durant ces 2h chaque mois. \nDans ce même lieu qui nous accueillera au fil du temps et des rencontres. \n  \nPOURQUOI LA REGULARITÉ ?\nCe cercle est constitué d’homme de tous horizons\, dans lequel la parole est au centre\, de chacun\, est facilitée. \nNous favorisons l’expression authentique\, en parlant à partir de soi\, en prononçant le « Je » et en laissant à l’entrée du cercle\, les jeux\, les masques et les attentes. \nNous sommes ouverts à la découverte de l’instant présent\, ce qui se vit. \nNous sommes ouverts à la richesse qui s’offre\, s’accueille avec humilité et gratitude. \n  \nUN RENDEZ-VOUS \nMENSUEL \nUN JEUDI SOIR \nDE 20H30 A 22H30 \n  \nPour vous inscrire\, et/ou information complémentaire\, contactez-moi !! \nAmener votre tapis\, Cousin\, \nCouverture\, un stylo et un cahier. \nParticipation de 20 € \n  \nLA MANE\nA LA « NOUVELLE SALLE »\n9\, AVENUE DE LAGARDE\nA BALMA (31130) \navec Denis BERTRAND \nTéléphone : 06 18 88 23 77\nMail : lavoiedelasimplicite@gmail.com\nSite internet : https://lavoiedelasimplicite.fr \nFacebook : https://www.facebook.com/profile.php?id=100080414156441
URL:https://lamane-balma.com/evenement/cercle-d-hommes-juin-2023/
CATEGORIES:Ateliers
END:VEVENT
END:VCALENDAR