BEGIN:VCALENDAR
VERSION:2.0
PRODID:-//La Mane Balma - ECPv6.15.20//NONSGML v1.0//EN
CALSCALE:GREGORIAN
METHOD:PUBLISH
X-WR-CALNAME:La Mane Balma
X-ORIGINAL-URL:https://lamane-balma.com
X-WR-CALDESC:Évènements pour La Mane Balma
REFRESH-INTERVAL;VALUE=DURATION:PT1H
X-Robots-Tag:noindex
X-PUBLISHED-TTL:PT1H
BEGIN:VTIMEZONE
TZID:Europe/Paris
BEGIN:DAYLIGHT
TZOFFSETFROM:+0100
TZOFFSETTO:+0200
TZNAME:CEST
DTSTART:20190331T010000
END:DAYLIGHT
BEGIN:STANDARD
TZOFFSETFROM:+0200
TZOFFSETTO:+0100
TZNAME:CET
DTSTART:20191027T010000
END:STANDARD
BEGIN:DAYLIGHT
TZOFFSETFROM:+0100
TZOFFSETTO:+0200
TZNAME:CEST
DTSTART:20200329T010000
END:DAYLIGHT
BEGIN:STANDARD
TZOFFSETFROM:+0200
TZOFFSETTO:+0100
TZNAME:CET
DTSTART:20201025T010000
END:STANDARD
BEGIN:DAYLIGHT
TZOFFSETFROM:+0100
TZOFFSETTO:+0200
TZNAME:CEST
DTSTART:20210328T010000
END:DAYLIGHT
BEGIN:STANDARD
TZOFFSETFROM:+0200
TZOFFSETTO:+0100
TZNAME:CET
DTSTART:20211031T010000
END:STANDARD
END:VTIMEZONE
BEGIN:VEVENT
DTSTART;TZID=Europe/Paris:20200617T200000
DTEND;TZID=Europe/Paris:20200617T223000
DTSTAMP:20260424T095538
CREATED:20190627T100421Z
LAST-MODIFIED:20190627T100421Z
UID:31523-1592424000-1592433000@lamane-balma.com
SUMMARY:Atelier intérieur - Cercle de Rencontre avec Soi
DESCRIPTION:Atelier intérieur – Cercle de Rencontre avec Soi\nMercredi 17 Juin\n\n20h – 22h30 –  20€\nA chaque atelier\, un outil ou un thème est proposé pour aller à la rencontre de son ressenti\, de son intuition\, de sa personnalité unique : Positionnement énergétique\, yoga des sons\, ancrage\, chant intuitif\, arthérapie\, accueil des rêves\, tambour amérindien\, bols tibétains\, sons en astrologie\, chakras et acupressure…et autres partages.. \nSous forme d’exercices pratiques et simples\, ces ateliers apportent compréhension et approfondissement de la connaissance de soi dans une dynamique de partage et de bienveillance.\nParticipation 20€ – Durée 2h\nRéservation et renseignements au 0675938776. Prévoir plaid et coussin. \nIsabelle Clergue\nSoins Vibratoires\nhttp://www.therapie-humaniste.com
URL:https://lamane-balma.com/evenement/atelier-interieur-cercle-de-rencontre-soi-10/
CATEGORIES:Ateliers
END:VEVENT
END:VCALENDAR