BEGIN:VCALENDAR
VERSION:2.0
PRODID:-//La Mane Balma - ECPv6.15.20//NONSGML v1.0//EN
CALSCALE:GREGORIAN
METHOD:PUBLISH
X-ORIGINAL-URL:https://lamane-balma.com
X-WR-CALDESC:Évènements pour La Mane Balma
REFRESH-INTERVAL;VALUE=DURATION:PT1H
X-Robots-Tag:noindex
X-PUBLISHED-TTL:PT1H
BEGIN:VTIMEZONE
TZID:Europe/Paris
BEGIN:DAYLIGHT
TZOFFSETFROM:+0100
TZOFFSETTO:+0200
TZNAME:CEST
DTSTART:20180325T010000
END:DAYLIGHT
BEGIN:STANDARD
TZOFFSETFROM:+0200
TZOFFSETTO:+0100
TZNAME:CET
DTSTART:20181028T010000
END:STANDARD
BEGIN:DAYLIGHT
TZOFFSETFROM:+0100
TZOFFSETTO:+0200
TZNAME:CEST
DTSTART:20190331T010000
END:DAYLIGHT
BEGIN:STANDARD
TZOFFSETFROM:+0200
TZOFFSETTO:+0100
TZNAME:CET
DTSTART:20191027T010000
END:STANDARD
BEGIN:DAYLIGHT
TZOFFSETFROM:+0100
TZOFFSETTO:+0200
TZNAME:CEST
DTSTART:20200329T010000
END:DAYLIGHT
BEGIN:STANDARD
TZOFFSETFROM:+0200
TZOFFSETTO:+0100
TZNAME:CET
DTSTART:20201025T010000
END:STANDARD
END:VTIMEZONE
BEGIN:VEVENT
DTSTART;TZID=Europe/Paris:20191213T200000
DTEND;TZID=Europe/Paris:20191213T233000
DTSTAMP:20260424T185600
CREATED:20190913T104821Z
LAST-MODIFIED:20190913T104821Z
UID:31888-1576267200-1576279800@lamane-balma.com
SUMMARY:Danse Introspective avec Lily Marfisi
DESCRIPTION:http://chamanisme-bien-etre.fr/ateliers/danse-introspective/ \nUne soirée de Danse Introspective afin d’utiliser le corps en mouvement dans un but de développement et de guérison personnelle. \nLe concept est simple : pendant 2h30\, laisser emporter son corps au rythme du son. A travers des musiques du monde (transes\, chamaniques\, indiennes\, orientales\, etc) vous allez traverser différents états de conscience\, et différentes phases de transformation. Le but étant un lâcher prise total et une transformation de nos schémas de vie négatifs. Il n’y a aucune règle et aucun jugement\, nous sommes uniquement ici pour lâcher pleinement et pour se libérer en toute sécurité et dans l’amour. L’expérience dure longtemps afin que chacun puisse traverser les étapes nécessaires à sa propre transformation. Vous n’êtes pas obligés d’être constamment en mouvement\, vous irez seulement au rythme qui est approprié à votre propre histoire. \nLa danse introspective est une expérience\, comme son nom l’indique\, d’introspection\, donc une expérience personnelle et intérieure. Bien que l’énergie de groupe sera bénéfique pour chacun\, c’est un moment que vous passerez avant tout avec vous-même. C’est une expérience intense et puissante\, qui n’est compréhensible qu’en la vivant.\n> Plus d’infos: http://chamanisme-bien-etre.fr/ateliers/danse-introspective/\n> Témoignages des ateliers : http://chamanisme-bien-etre.fr/ateliers/temoignages-des-participants/ \nINFOS PRATIQUES :\nParticipation : 20€. Les places étant limitées afin d’offrir le plus de place à chacun pour bouger\, une caution vous sera demandée à l’inscription pour réserver votre place. \nINSCRIPTIONS :\nPar e-mail à lily.marfisi@gmail.com \n 
URL:https://lamane-balma.com/evenement/danse-introspective-avec-lily-marfisi-3/
LOCATION:La Mane\, 9 avenue de lagarde\, Balma\, 31130\, France
CATEGORIES:Ateliers
END:VEVENT
END:VCALENDAR