BEGIN:VCALENDAR
VERSION:2.0
PRODID:-//La Mane Balma - ECPv6.15.20//NONSGML v1.0//EN
CALSCALE:GREGORIAN
METHOD:PUBLISH
X-ORIGINAL-URL:https://lamane-balma.com
X-WR-CALDESC:Évènements pour La Mane Balma
REFRESH-INTERVAL;VALUE=DURATION:PT1H
X-Robots-Tag:noindex
X-PUBLISHED-TTL:PT1H
BEGIN:VTIMEZONE
TZID:Europe/Paris
BEGIN:DAYLIGHT
TZOFFSETFROM:+0100
TZOFFSETTO:+0200
TZNAME:CEST
DTSTART:20180325T010000
END:DAYLIGHT
BEGIN:STANDARD
TZOFFSETFROM:+0200
TZOFFSETTO:+0100
TZNAME:CET
DTSTART:20181028T010000
END:STANDARD
BEGIN:DAYLIGHT
TZOFFSETFROM:+0100
TZOFFSETTO:+0200
TZNAME:CEST
DTSTART:20190331T010000
END:DAYLIGHT
BEGIN:STANDARD
TZOFFSETFROM:+0200
TZOFFSETTO:+0100
TZNAME:CET
DTSTART:20191027T010000
END:STANDARD
BEGIN:DAYLIGHT
TZOFFSETFROM:+0100
TZOFFSETTO:+0200
TZNAME:CEST
DTSTART:20200329T010000
END:DAYLIGHT
BEGIN:STANDARD
TZOFFSETFROM:+0200
TZOFFSETTO:+0100
TZNAME:CET
DTSTART:20201025T010000
END:STANDARD
END:VTIMEZONE
BEGIN:VEVENT
DTSTART;TZID=Europe/Paris:20191206T180000
DTEND;TZID=Europe/Paris:20191206T200000
DTSTAMP:20260424T185435
CREATED:20190920T085117Z
LAST-MODIFIED:20190920T085117Z
UID:31945-1575655200-1575662400@lamane-balma.com
SUMMARY:ATELIER DANSE DERVICHE
DESCRIPTION:ATELIER DANSE DERVICHE\nLa DANSE DERVICHE est une puissante Danse de Présence ou Méditation en mouvement qui connecte à la pulsation du Vivant qui vibre et palpite\, ouvre à la joie et à la paix de notre nature essentielle.\nNous tournoyons comme les planètes et les étoiles du Cosmos\, les pieds enracinés dans la terre\, ancrés solidement dans l’axe vertical\, le coeur ouvert à l’inconnu.\n \n  \nDans ces ateliers\, nous expérimentons : \n*  le Souffle et l’Ecoute qui ouvrent un nouvel espace de Présence\, \n* l’alignement pour se poser dans l’axe ciel/terre \n*  la technique du Tour et la symbolique des gestes \n* les spirales pour réveiller l’onde de vie dans la colonne vertébrale \n* les mouvements libres pour trouver l’aisance et la liberté dans le tournoiement \n*  le lâcher prise et l’abandon pour se délester de ses peurs et ouvrir de nouveaux paysages intérieurs \nCet atelier du tournoiement Soufi ou Derviche est ouvert à tous débutants ou déjà pratiquants \nInfos et Inscriptions : Katy Barcelo  06 23 12 04 91 \nMail : anandajoy.asso@gmail.com \nhttp://www.danse-creative-anandajoy.com/ \n  \nDATES des ATELIERS de 18 à 20h  à la MANE à BALMA  \nVendredi 4 octobre  – 15 novembre – 6 décembre  \nTarif : 20 euros \n 
URL:https://lamane-balma.com/evenement/atelier-danse-derviche-3/
LOCATION:La Mane\, 9 avenue de lagarde\, Balma\, 31130\, France
CATEGORIES:Ateliers
END:VEVENT
END:VCALENDAR