BEGIN:VCALENDAR
VERSION:2.0
PRODID:-//La Mane Balma - ECPv6.15.20//NONSGML v1.0//EN
CALSCALE:GREGORIAN
METHOD:PUBLISH
X-ORIGINAL-URL:https://lamane-balma.com
X-WR-CALDESC:Évènements pour La Mane Balma
REFRESH-INTERVAL;VALUE=DURATION:PT1H
X-Robots-Tag:noindex
X-PUBLISHED-TTL:PT1H
BEGIN:VTIMEZONE
TZID:Europe/Paris
BEGIN:DAYLIGHT
TZOFFSETFROM:+0100
TZOFFSETTO:+0200
TZNAME:CEST
DTSTART:20220327T010000
END:DAYLIGHT
BEGIN:STANDARD
TZOFFSETFROM:+0200
TZOFFSETTO:+0100
TZNAME:CET
DTSTART:20221030T010000
END:STANDARD
BEGIN:DAYLIGHT
TZOFFSETFROM:+0100
TZOFFSETTO:+0200
TZNAME:CEST
DTSTART:20230326T010000
END:DAYLIGHT
BEGIN:STANDARD
TZOFFSETFROM:+0200
TZOFFSETTO:+0100
TZNAME:CET
DTSTART:20231029T010000
END:STANDARD
BEGIN:DAYLIGHT
TZOFFSETFROM:+0100
TZOFFSETTO:+0200
TZNAME:CEST
DTSTART:20240331T010000
END:DAYLIGHT
BEGIN:STANDARD
TZOFFSETFROM:+0200
TZOFFSETTO:+0100
TZNAME:CET
DTSTART:20241027T010000
END:STANDARD
END:VTIMEZONE
BEGIN:VEVENT
DTSTART;TZID=Europe/Paris:20231203T100000
DTEND;TZID=Europe/Paris:20231203T123000
DTSTAMP:20260419T232129
CREATED:20231009T085144Z
LAST-MODIFIED:20231016T082957Z
UID:35532-1701597600-1701606600@lamane-balma.com
SUMMARY:Cercle de Rêves
DESCRIPTION:LE 3 DECEMBRE DE 2023 DE 10H à 12H30\nà La Mane Balma – 9 avenue de Lagarde / Dans le cabinet d’Adeline Ferlin \n			\n				\n				\n				\n				\n				\n			\n				\n				\n				\n				\n				Je vous propose un atelier participatif sur les rêves.\nVous pourrez raconter le rêve de votre choix que nous explorerons ensemble.\nL’écoute des rêves des autres participants permet d’approfondir la compréhension du langage onirique. \nVous vous laissez porter par l’intuition et vous découvrez les messages qu’ils recèlent.\nVous entrez en contact avec des parties de vous-même qui veulent être mises en lumière. \nSuivre les messages de nos rêves nous aide à avancer dans notre Vie quotidienne. \nJ’ai envie de partager cet outil passionnant avec vous. Vous tentez l’expérience ! \nJe reste disponible pour vous répondre à vos interrogations.\n			\n				\n				\n				\n				\n				Tarif : 25€\n			\n				\n				\n				\n				\n				Renseignement et réservation : \nTéléphone : 06 52 41 39 17Mail : mariajesus17.siemon@gmail.comSite internet : https://mariasierra.fr/Facebook : Maria Sierra
URL:https://lamane-balma.com/evenement/cercle-de-reves/
CATEGORIES:Ateliers
END:VEVENT
BEGIN:VEVENT
DTSTART;TZID=Europe/Paris:20231206T143000
DTEND;TZID=Europe/Paris:20231206T173000
DTSTAMP:20260419T232129
CREATED:20231009T081314Z
LAST-MODIFIED:20231023T074216Z
UID:35473-1701873000-1701883800@lamane-balma.com
SUMMARY:Re-Belles\, ouvrons nos ailes\, avec ELLES !
DESCRIPTION:« Re-Belles\, ouvrons nos ailes\, avec ELLES ! »\n			\n				\n				\n				\n				\n				\n			\n				\n				\n				\n				\n				Un atelier avec pour inspiration les femmes d’hier et d’aujourd’hui\, celles qui oeuvrent (ou ont oeuvrées) et participent au rayonnement collectif.Depuis la nuit des temps\, elles créent\, pensent\, osent et tracent des voies.Des chemins inspirants\, des vies surprenantes\, elles défient l’impossible et nous montrent par leur audace comment se créer la vie qui nous ressemble\, déployer nos ailes et créer un monde meilleur. \nAvec notre expression créative et différents supports (écriture\, peinture intuitive\, collage\, musique) nous activerons nos fameux neurones miroirs et réveilleront les trésors qui sommeilent en nous !!!Chaque mois\, nous mettrons à l’honneur une de ces femmes formidables et nous la laisseront nous inspirer de son talent\, de son expérience\, de son élan et de sa vision.Artistes\, pionnières\, guide spirituelles\, scientifiques\, soignantes\, écologistes\, révolutionnaires\, créatrices… \nAtelier un mercredi par mois\, de 14H30 à 17H30Les 4/10\, 8/11\, 6/12 2023et les 10/01\, 07/02\, 06/03\, 03/04\, 24/04 et 22/05/2024. \nTarif : 44 euros\, matériel fourni\, accessible à tous. \nSur inscription ; \nhttps://www.sandrinerouillon.fr0683343590
URL:https://lamane-balma.com/evenement/re-belles-ouvrons-nos-ailes-avec-elles-2/
CATEGORIES:Ateliers
END:VEVENT
BEGIN:VEVENT
DTSTART;TZID=Europe/Paris:20231210T090000
DTEND;TZID=Europe/Paris:20231210T170000
DTSTAMP:20260419T232129
CREATED:20231204T105328Z
LAST-MODIFIED:20231204T105332Z
UID:35674-1702198800-1702227600@lamane-balma.com
SUMMARY:Atelier de Constellations Familiales Systémiques
DESCRIPTION:Le Dimanche 10 décembre 2023 de 9h à 17h\nà La Mane Balma – 9 avenue de Lagarde / Dans la petite salle \n			\n				\n				\n				\n				\n				avec Mme Dominique MERIENNE\, Gestalt thérapeute et thérapies transgénérationnelles\, formée et certifiée par le CFTTA Bordeaux\n			\n				\n				\n				\n				\n				\n			\n				\n				\n				\n				\n				Nous sommes imprégnés de nos histoires familiales même inconnues. \nNos problématiques conscientes sont en grande partie reliées par un lien inconscient de loyauté familiale\, d’amour\, à des événements douloureux vécus par nos ancêtres. \nC‘est ainsi que nous ne comprenons pas toujours le sens de ce que nous vivons\, de nos réactions\, émotions\, ou actions qui semblent nous agir malgré nous. Heureusement\, nous pouvons nous en défaire tout en honorant nos ancêtres ! \nUne Constellation Familiale Systémique permet de mettre en lumière ces souffrances initiales et de les apaiserEn nous permettant de voir et reconnaître ce qui a été vécu\, de réintégrer les exclus du système\, en remettant chacun à sa bonne place\, en remettant de l‘ordre\, l’apaisement se ressent\, et permet de nous orienter vers une solution positive. \nParticiper à une constellation\, une expérience profonde\, puissante et pleine d‘amour \nEn tant que constellé : Vous choisissez et placez les représentants de membres familiaux et serez observateur de ce qui se montre\, de ce qui évolue vers l’apaisement … En fin de constellation vous pourrez participer et intégrer l’énergie nouvelle. \nEn tant que représentant. : Avec votre accord\, vous pouvez être choisi et vous expérimentez alors la puissance de l ‘inconscient familial en vous laissant ressentir des émotions\, des mouvements\, qui sont ceux de l‘ancêtre représenté. \nVous aidez le constellé\, et dans le même temps\, cela peut aussi résonner en vous et vous éclairer dans votre propre histoire. \nLe thérapeute\, observe et interroge-les ressentis de chaque acteur\, et accompagne vers la libération\, l‘apaisement. \n\n\n\n\n  \nTarifs : la journée : 95 euros ( avec une constellation) 35 euros ( représentant ) \n\n\n\n\n			\n				\n				\n				\n				\n				Renseignement et réservation : \nTéléphone : 06 70 11 04 12Mail : dominiquemerienne.psy@gmail.com
URL:https://lamane-balma.com/evenement/atelier-de-constellations-familiales-systemiques/
CATEGORIES:Ateliers
END:VEVENT
BEGIN:VEVENT
DTSTART;TZID=Europe/Paris:20231213T200000
DTEND;TZID=Europe/Paris:20231213T220000
DTSTAMP:20260419T232129
CREATED:20231204T094228Z
LAST-MODIFIED:20231204T094232Z
UID:35661-1702497600-1702504800@lamane-balma.com
SUMMARY:Atelier de danse libre et intuitive et bains sonores
DESCRIPTION:Le mercredi 13 décembre 2023 de 20h à 22h\nà La Mane Balma – 9 avenue de Lagarde \n			\n				\n				\n				\n				\n				avec Sylvie Pueyo \n			\n				\n				\n				\n				\n				Bonjour à vous\, \nSi vous avez envie de vous reconnerter à votre corps dans la joie et la liberté\,  \nj’ouvre un nouvel atelier de danse libre et intuitive\, et de bains sonores\, \nle mercredi 13 décembre à la Mane à Balma de 20h à 22h. \nSe mettre en mouvements retrouver la joie\, la créativité sans aucune contrainte\,\nc’est possible!\nPuis\, entrer tout doucement dans le silence de notre corps à travers les bols chantants. \nLeurs sonorités nous amènent à vibrer dans notre propre fréquence harmonique et nous\npermettent de créer nos « ondes alpha »  présentes dans le cerveau lors de relaxation profonde. \nVous pouvez informer vos compagnons\, maris\, et amis\, ils sont les bienvenus. \nLe prix de l’atelier est de 20 euros.\n			\n				\n				\n				\n				\n				Renseignement et réservation : \nSylvie Pueyo : sylvie.pueyo@yahoo.frTéléphone : 06 22 97 58 24
URL:https://lamane-balma.com/evenement/atelier-de-danse-libre-et-intuitive-et-bains-sonores/
CATEGORIES:Ateliers
END:VEVENT
BEGIN:VEVENT
DTSTART;TZID=Europe/Paris:20231215T180000
DTEND;TZID=Europe/Paris:20231215T210000
DTSTAMP:20260419T232129
CREATED:20230904T081336Z
LAST-MODIFIED:20231204T110620Z
UID:35211-1702663200-1702674000@lamane-balma.com
SUMMARY:Cercle de femmes – Danse ton pouvoir
DESCRIPTION:UN VENDREDI PAR MOIS de 18h à 21h\n– Le 15 Décembre 2023 ; Je retrouve ma confiance \n \nSi vous êtes une femme engagée envers vous-même\, ce cycle de 9 rencontres « Cercles de Femmes *Danse ton pouvoir* » est fait pour vous. \nNous voyageons à travers nos centres d’énergie ou chakras. Nous revenons à la maison – au corps – en équilibrant chaque centre\, du plus instinctif au plus intuitif. Nous nous réapproprions le pouvoir de nos émotions et récupérons la vitalité. \nDans un espace sécurisant\, nous prenons conscience\, reconnaissons\, activons et intégrons les différentes mémoires et énergies qui nous habitent. \nNous avançons dans le cycle grâce à la danse\, au libre mouvement\, à des exercices spécifiques à chaque centre\, aux pratiques de respirations et à d’autres activités que nous découvrons à chaque séance et que nous pouvons pratiquer chez nous. \nUn vendredi par mois de 18h à 21h et une séance en visio pour partager\, soutenir et développer le lien entre femmes. \nHarmonie et santé circulent dans vos centres d’énergie. \nAux environs de la pleine lune nous faisons une visio pour partager et soutenir les expériences vécues pendant la lune en cours. \nIntervenante :\nMARIA SIERRA \nRenseignements & Inscriptions :\nTéléphone : 06 52 41 39 17Mail : mariajesus17.siemon@gmail.comSite internet : Https://mariasierra.fr/Facebook : Maria Sierra \nTarifs :\n315 € l’année (35€/mois pour la séance et la visio). \nLieu :\nLa Mane Balma – Petite Salle \nAutres dates :\nLe 15 Décembre 2023 ; Je retrouve ma confiance \n– Le 12 Janvier 2024 ; Vers ma joie créative \n– Le 9 Février 2024 ; Mes émotions \n– Le 8 Mars 2024 ; Ma capacité d’aimer \n– Le 12 Avril 2024 ; J’exprime qui je suis \n– Le 17 Mai 2024 ; Mon intuition me guide \n– Le 7 Juin 2024 ; Le chemin – La renaissance
URL:https://lamane-balma.com/evenement/cercle-de-femmes-danse-ton-pouvoir-decembre-2023/
CATEGORIES:Ateliers
END:VEVENT
END:VCALENDAR