BEGIN:VCALENDAR
VERSION:2.0
PRODID:-//La Mane Balma - ECPv6.15.20//NONSGML v1.0//EN
CALSCALE:GREGORIAN
METHOD:PUBLISH
X-WR-CALNAME:La Mane Balma
X-ORIGINAL-URL:https://lamane-balma.com
X-WR-CALDESC:Évènements pour La Mane Balma
REFRESH-INTERVAL;VALUE=DURATION:PT1H
X-Robots-Tag:noindex
X-PUBLISHED-TTL:PT1H
BEGIN:VTIMEZONE
TZID:Europe/Paris
BEGIN:DAYLIGHT
TZOFFSETFROM:+0100
TZOFFSETTO:+0200
TZNAME:CEST
DTSTART:20220327T010000
END:DAYLIGHT
BEGIN:STANDARD
TZOFFSETFROM:+0200
TZOFFSETTO:+0100
TZNAME:CET
DTSTART:20221030T010000
END:STANDARD
BEGIN:DAYLIGHT
TZOFFSETFROM:+0100
TZOFFSETTO:+0200
TZNAME:CEST
DTSTART:20230326T010000
END:DAYLIGHT
BEGIN:STANDARD
TZOFFSETFROM:+0200
TZOFFSETTO:+0100
TZNAME:CET
DTSTART:20231029T010000
END:STANDARD
BEGIN:DAYLIGHT
TZOFFSETFROM:+0100
TZOFFSETTO:+0200
TZNAME:CEST
DTSTART:20240331T010000
END:DAYLIGHT
BEGIN:STANDARD
TZOFFSETFROM:+0200
TZOFFSETTO:+0100
TZNAME:CET
DTSTART:20241027T010000
END:STANDARD
END:VTIMEZONE
BEGIN:VEVENT
DTSTART;TZID=Europe/Paris:20230919T123000
DTEND;TZID=Europe/Paris:20230919T140000
DTSTAMP:20260420T035610
CREATED:20230918T085528Z
LAST-MODIFIED:20230918T085648Z
UID:35329-1695126600-1695132000@lamane-balma.com
SUMMARY:Atelier : gérer son stress et ses émotions
DESCRIPTION:Lors de cet atelier nous allons apprendre à gérer le stress et les émotions par des exercices de QiGong et par le Do In ou automassage de certains points d’acupuncture.\nDes pratiques simples à réaliser soi-même pour apaiser les tensions et prendre un temps pour soi. \nDurée : 1h30 \nIntervenante : Claire LESAGE \nRenseignements & Inscriptions :\nTéléphone : 06.50.60.91.01\nMail :lesageclaire@yahoo.fr \nTarif :\n25 € par personne
URL:https://lamane-balma.com/evenement/atelier-gerer-son-stress-et-ses-emotions-sept-2023/
CATEGORIES:Ateliers
END:VEVENT
BEGIN:VEVENT
DTSTART;TZID=Europe/Paris:20230929T100000
DTEND;TZID=Europe/Paris:20230929T213000
DTSTAMP:20260420T035610
CREATED:20230904T084929Z
LAST-MODIFIED:20230918T101740Z
UID:35233-1695981600-1696023000@lamane-balma.com
SUMMARY:Journée découverte Artas
DESCRIPTION:Journée découverte – rencontre Artas EntraideAvec Sanjy Ramboatiana \nVendredi 29 septembre 2023 10h-21h \n3 ateliers indépendants\n10h-12h : un atelier de Parcours bien-êtreFaire du bien au corps sans le brutaliser et à l’esprit sans besoin de performance\, seul ou à deux.Un parcours d’activités physiques qui développent harmonieusement le corps\, pendant une heure\, en silence et sans heurt avec un seul objectif : le plaisir de se sentir vivre.C’est aussi un enchaînement de techniques de bien-être psychiques où l’on se bouge l’esprit dans le calme et le respect de l’autre avec un seul objectif : le plaisir de se découvrir soi-même et les autres. \n15h-17h : un atelier de coaching psycho corporelVous voulez résoudre une difficulté de vie ponctuelle ? Vous voulez plus de paix dans votre présent ?Faites appel au corps\, il ne ment jamais \n19h-21h : Atelier rencontre « Plus positif que la pensée positive : penser du bien de soi ! »Venez essayez\, des exercices pratiques vous seront proposés. \nInfos & Renseignements :Téléphone : 06 20 79 12 87Mail :cpt.fargette@wanadoo.frSite internet : artas.orgFacebook : Artas Entraide Sud Ouest
URL:https://lamane-balma.com/evenement/journee-decouverte-artas-septembre-2023/
CATEGORIES:Ateliers
END:VEVENT
BEGIN:VEVENT
DTSTART;TZID=Europe/Paris:20230929T190000
DTEND;TZID=Europe/Paris:20230929T210000
DTSTAMP:20260420T035610
CREATED:20230918T101535Z
LAST-MODIFIED:20230918T101657Z
UID:35367-1696014000-1696021200@lamane-balma.com
SUMMARY:Atelier Rencontre : " Plus positif que la pensée positive\, penser du bien de soi !"
DESCRIPTION:Journée découverte – rencontre Artas EntraideAvec Chantal Fargette \nVendredi 29 septembre 2023 19h-21h \nVenez essayez !\nDans cette rencontre\, des exercices de pratique intérieure vous seront proposés puis l’atelier se terminera par une présentation de la salle de pratique hebdomadaire. \n19h-21h : Atelier rencontre « Plus positif que la pensée positive : penser du bien de soi ! »Venez essayez\, des exercices pratiques vous seront proposés. \nInfos & Renseignements :Téléphone : 06 20 79 12 87Mail :cpt.fargette@wanadoo.frSite internet : artas.orgFacebook : Artas Entraide Sud Ouest
URL:https://lamane-balma.com/evenement/atelier-rencontre-plus-positif-que-la-pensee-positive-penser-du-bien-de-soi/
CATEGORIES:Ateliers
END:VEVENT
END:VCALENDAR