BEGIN:VCALENDAR
VERSION:2.0
PRODID:-//La Mane Balma - ECPv6.15.20//NONSGML v1.0//EN
CALSCALE:GREGORIAN
METHOD:PUBLISH
X-ORIGINAL-URL:https://lamane-balma.com
X-WR-CALDESC:Évènements pour La Mane Balma
REFRESH-INTERVAL;VALUE=DURATION:PT1H
X-Robots-Tag:noindex
X-PUBLISHED-TTL:PT1H
BEGIN:VTIMEZONE
TZID:Europe/Paris
BEGIN:DAYLIGHT
TZOFFSETFROM:+0100
TZOFFSETTO:+0200
TZNAME:CEST
DTSTART:20220327T010000
END:DAYLIGHT
BEGIN:STANDARD
TZOFFSETFROM:+0200
TZOFFSETTO:+0100
TZNAME:CET
DTSTART:20221030T010000
END:STANDARD
BEGIN:DAYLIGHT
TZOFFSETFROM:+0100
TZOFFSETTO:+0200
TZNAME:CEST
DTSTART:20230326T010000
END:DAYLIGHT
BEGIN:STANDARD
TZOFFSETFROM:+0200
TZOFFSETTO:+0100
TZNAME:CET
DTSTART:20231029T010000
END:STANDARD
BEGIN:DAYLIGHT
TZOFFSETFROM:+0100
TZOFFSETTO:+0200
TZNAME:CEST
DTSTART:20240331T010000
END:DAYLIGHT
BEGIN:STANDARD
TZOFFSETFROM:+0200
TZOFFSETTO:+0100
TZNAME:CET
DTSTART:20241027T010000
END:STANDARD
END:VTIMEZONE
BEGIN:VEVENT
DTSTART;TZID=Europe/Paris:20230602T173000
DTEND;TZID=Europe/Paris:20230602T190000
DTSTAMP:20260420T081312
CREATED:20230529T083911Z
LAST-MODIFIED:20230529T092600Z
UID:34995-1685727000-1685732400@lamane-balma.com
SUMMARY:Atelier : Automassage du visage\, des mains ou des pieds
DESCRIPTION:Thème de cet atelier : Gérer les douleurs\nPour ceux qui souhaitent découvrir la réflexologie en se faisant des autostimulations et automassage \nAvec Brigitte Bois \nCet atelier est ouvert à tous petit et grands et peut être pratiqué en famille. \nSauf femmes enceintes\, problèmes cardiaques et vasculaires importants) \nIl vous donnera accès à des techniques d’auto-stimulations et automassages simples qui vous permettront de soulager certains maux du quotidien (système digestif\, douleurs\, migraines\, stress…). \nAprès un cours théorique\, vous aurez le plaisir de masser vos mains ! et vos pieds ! \nDurée de l’atelier : 1h30 heure – minimum 4 personnes maximum 8 personnes – \nTarif : 20 €/personne \nProgramme des ateliers :\n• Atelier Détox et système digestif le vendredi 31 mars de 11h30 à 13h\n• Gérer ses émotions et son stress le vendredi 28 avril de 12h à 13h30\n• Mieux dormir le vendredi 12 mai de 11h30 à 13h\n• Gere les douleurs le vendredi 2 juin de 17h30 à 19 h\n• Booster son système lymphatique le vendredi 23 juin de 12h à 13h 30 \nVous découvrirez tous les ateliers et les tarifs de Balma et Launaguet sur mon agenda en ligne https://reflexologie-toulouse.com \nTéléphone : 06 70 70 00 36\nMail : brigitteboisreflexo@gmail.com\nSite internet : https://www.reflexologie-toulouse.com
URL:https://lamane-balma.com/evenement/atelier-automassage-du-visage-des-mains-ou-des-pieds/
CATEGORIES:Ateliers
END:VEVENT
BEGIN:VEVENT
DTSTART;TZID=Europe/Paris:20230606T190000
DTEND;TZID=Europe/Paris:20230606T210000
DTSTAMP:20260420T081312
CREATED:20230605T074628Z
LAST-MODIFIED:20230605T074628Z
UID:35054-1686078000-1686085200@lamane-balma.com
SUMMARY:Soirée découverte de la salle de pratique
DESCRIPTION:le mardi 6 juin 2023 à 19 heures au centre La Mane 9 avenue de Lagarde 31130 Balma \n \nÀ l’image d’une salle de sport où l’on vient s’entrainer à la carte\, selon le besoin et l’envie de chacun\, ARTAS ENTRAIDE vous propose de découvrir « une salle de pratique ». Il y est possible de s’exercer à toutes sortes de petits jeux\, de petites techniques\, pour révéler les ressources insoupçonnées qui sommeillent en chacun de nous.\nDans cette salle de pratique sont proposés différents ateliers renouvelés chaque mois:\n– l’atelier Silence\n– l’atelier des Petites pratiques\n– l’atelier Textes\n– l’atelier pratique d’Actes\n– l’atelier Tisanerie\npour prendre son temps comme une parenthèse de douceur pour soi et vivre l’espace d’un instant dans un rythme juste. \nVenez découvrir cette nouvelle salle de pratique avec de nouvelles techniques de développement personnel ou de sagesse avec Sanjy Ramboatiana \nRenseignements et inscriptions: \n06 40 93 55 91 ou 06 20 79 12 87
URL:https://lamane-balma.com/evenement/soiree-decouverte-de-la-salle-de-pratique/
CATEGORIES:Ateliers
END:VEVENT
BEGIN:VEVENT
DTSTART;TZID=Europe/Paris:20230610T100000
DTEND;TZID=Europe/Paris:20230610T120000
DTSTAMP:20260420T081312
CREATED:20230605T082333Z
LAST-MODIFIED:20230612T074701Z
UID:35068-1686391200-1686398400@lamane-balma.com
SUMMARY:Découverte du shiatsu avec son chien
DESCRIPTION:Samedi 10 juin à 10h \nAvec Claire Lesage \n \nCet atelier va vous permettre de découvrir le shiatsu animalier et par des gestes simples de masser votre chien pour le relaxer.\nC’est une découverte ouverte à tous\, il n’y a pas de pré-requis.\nSi vous souhaitez une séance individuelle pour connaitre les déséquilibres de votre animal et de pratiquer un massage adapté\,\nje vous conseille de me contacter au 06.50.60.91.01
URL:https://lamane-balma.com/evenement/decouverte-du-shiatsu-avec-son-chien-juin-2023/
CATEGORIES:Ateliers
END:VEVENT
BEGIN:VEVENT
DTSTART;TZID=Europe/Paris:20230611T090000
DTEND;TZID=Europe/Paris:20230611T120000
DTSTAMP:20260420T081312
CREATED:20230529T085505Z
LAST-MODIFIED:20230605T092640Z
UID:35011-1686474000-1686484800@lamane-balma.com
SUMMARY:Ateliers/Cercles « Oracles et Tarots»
DESCRIPTION:Dimanche 11 juin 2023 de 9h-12h\nTarifs : 25euros \n \nLes ateliers/Cercles sont des moments de partage et d’échange en toute simplicité. \nPour ce dernier atelier avant l’été\, nous prendrons le temps d’interroger\nles oracles\nles guides\nvotre clairvoyance\, vos clair-ressentis et votre intuition \nNous échangerons et partagerons sur vos expériences et votre parcours spirituel. \nJ’ai souhaité au travers des différents ateliers\, permettre à chacun de se reconnecter à son être divin. \n« C’est dans l’unité\, ensemble\, que nous allons cheminer\nvers notre « être divin » en tant que « Je Suis ». \nPour plus de confort\, vous pouvez amener un tapis de méditation un coussin\npour vous asseoir et pour votre tête si besoin\, un plaid et une boisson chaude/froide. \nLaetitia Magnétiseuse-Guérisseuse\nThérapeute Holistique-Médium-Passeuse d’âme\nTéléphone : 06\,63\,76\,38\,36\nMail :laetitiamediumnite@gmail.com\nSite internet : laetitiapelissou.fr
URL:https://lamane-balma.com/evenement/ateliers-cercles-oracles-et-tarots/
CATEGORIES:Ateliers
END:VEVENT
BEGIN:VEVENT
DTSTART;TZID=Europe/Paris:20230611T093000
DTEND;TZID=Europe/Paris:20230611T230000
DTSTAMP:20260420T081312
CREATED:20230529T085927Z
LAST-MODIFIED:20230529T090219Z
UID:35013-1686475800-1686524400@lamane-balma.com
SUMMARY:Matinées de Tantra Kundalini Yoga
DESCRIPTION:Matinées de Tantra Kundalini Yoga\n\n\n\n\n\n\n\n\n\n\n\n\nAvec Quitterie Setoain\, association Hari Home\n\n\n\n\n\n\n\n\n\n\n\n\n\n\n\nLe dimanche 11 juin 2023 de 9h30 à 13h00\nLe Kundalini Yoga est un Yoga tantrique qui éveille l’énergie de vie et de créativité dans tous les chakras.\nIl permet l’harmonisation de l’énergie sur tous les plans de l’être.\nEveil de la Conscience\, bien-être physique\, libération des nœuds émotionnels\, physiques et énergétiques\, alignement et ancrage sont les bienfaits que l’on reçoit de cette pratique\, mais aussi état méditatif\, créativité\, et fluidité dans la manière d’aborder sa vie. \nIl est aussi un Yoga tantrique qui invite à être pleinement incarné sur tous les plans de son être\, en y intégrant l’Ombre et la Lumière\, la Terre et le Ciel\, et en rassemblant les polarités masculines et féminines à l’intérieur de soi. Etre en son centre\, pleinement dans l’Ici et Maintenant et relié au Cosmos dans sa magnifique intelligence de vie. \nCes matinées vous invite à lâcher votre mental\, dynamiser votre énergie\, accueillir le flux du mouvement en soi\, développer le souffle\, libérer la voix (chant des mantras)\, renforcer votre force intérieure\, et dissoudre les nœuds qui vous empêchent la connexion à votre essence. \nLes outils proposés : Méditation dynamique d’Osho\, Tantra Yoga (intégration de l’essence du mantra des Traditions anciennes dans la pratique du Yoga\, danse méditative\, méditation chantée et silencieuse)\, Kundalini Yoga\, Cercle de parole \nDates des ateliers 2022-2023 :\ndimanche 23 octobre\ndimanche 15 janvier\ndimanche 5 mars\ndimanche 11 juin \nTarifs :\n40€ / 35€ Réduit\nInscription par mail ou téléphone \nDes stages de 3 jours sont proposés en région Toulousaine\, en parallèle de ces matinées. \nRéférence : Chaîne Youtube \nInfos & Reservations : \n\nQuitterie de Kundalini Yoga depuis 13 ans\,  Thérapeute holistique – FTKY Téléphone : 06 24 00 45 87 Mail :  associationharihome@gmail.com Site Web : www.kundaliniyogatoulouse.com
URL:https://lamane-balma.com/evenement/matinees-de-tantra-kundalini-yoga-juin-2023/
CATEGORIES:Ateliers
END:VEVENT
BEGIN:VEVENT
DTSTART;TZID=Europe/Paris:20230611T100000
DTEND;TZID=Europe/Paris:20230611T113000
DTSTAMP:20260420T081312
CREATED:20230605T083010Z
LAST-MODIFIED:20230605T085301Z
UID:35070-1686477600-1686483000@lamane-balma.com
SUMMARY:Atelier ancrage\, qi gong et do in\, automassage
DESCRIPTION:Dimanche 11 juin à 10h \nLors de cet atelier nous allons apprendre à s’ancrer par des exercices de QiGong et par le Do In ou automassage de certains points d’acupuncture.\nDes pratiques simples à réaliser soi-même pour apaiser les tensions\, s’ancrer et prendre un temps pour soi. \nDurée : 1h30 \nInfos et Inscriptions : \navec Claire LESAGE\nTéléphone : 06 50 60 91 01\nMail : lesageclaire@yahoo.fr
URL:https://lamane-balma.com/evenement/atelier-ancrage-qi-gong-et-do-in-automassage/
CATEGORIES:Ateliers
END:VEVENT
BEGIN:VEVENT
DTSTART;TZID=Europe/Paris:20230611T160000
DTEND;TZID=Europe/Paris:20230611T173000
DTSTAMP:20260420T081312
CREATED:20230605T083107Z
LAST-MODIFIED:20230605T083107Z
UID:35072-1686499200-1686504600@lamane-balma.com
SUMMARY:Atelier apaiser ses émotions et son stress avec les automassages et le qi gong
DESCRIPTION:Dimanche 11 juin à 16h \nLors de cet atelier nous allons apprendre à s’ancrer par des exercices de QiGong et par le Do In ou automassage de certains points d’acupuncture.\nDes pratiques simples à réaliser soi-même pour apaiser les tensions\, s’ancrer et prendre un temps pour soi. \nDurée : 1h30 \nInfos et Inscriptions : \navec Claire LESAGE\nTéléphone : 06 50 60 91 01\nMail : lesageclaire@yahoo.fr
URL:https://lamane-balma.com/evenement/atelier-apaiser-ses-emotions-et-son-stress-avec-les-automassages-et-le-qi-gong/
CATEGORIES:Ateliers
END:VEVENT
BEGIN:VEVENT
DTSTART;TZID=Europe/Paris:20230615T200000
DTEND;TZID=Europe/Paris:20230615T220000
DTSTAMP:20260420T081312
CREATED:20230529T091605Z
LAST-MODIFIED:20230529T091605Z
UID:35021-1686859200-1686866400@lamane-balma.com
SUMMARY:Cercle d'hommes\, de parole\, de co-développement
DESCRIPTION:Jeudi 15 Juin 2023 à 20h30 \nOuvert à 10 hommes \nOuverture à l’instant présent\, ici et maintenant\, à Soi\, en toute simplicité\, par la parole\, le partage\, être entre hommes\, authentique et sincère\, dans un cadre de bienveillance\, sécurisé\, dans l’accueil de notre Masculin Sacré. \nHomme\, OM\, exprime toi\, ancre toi\, c’est l’heure du R-Eveil … \n UN CERCLE D’HOMME\, POURQUOI ?\nPour aller à la rencontre de ce qui freine son bien-être\, sa joie\, de vivre pleinement en harmonie avec le tout. \nExplorer son Masculin Sacré à travers ces archétypes : \n\nLe Guerrier pacifique\,\nLe Père\, le Fils\, L’enfant\,\nLe compagnon\, l’ami\, l’amant\,\nL’Amour\,\netc …\n\n  \nExplorer une thématique\, une problématique\, expérimenter le processus de CODEV. \nSe retrouver dans un espace ouvert à tous les hommes\, dans l’énergie du Masculin et du Féminin. \nEtre\, être libre\, de s’exprimer\, oser\, être à l’écoute\, participer à la vie de ce groupe d’homme\, le nourrir\, l’enrichir de sa présence. \nLe tout dans la bienveillance\, la confidentialité\, dans cet espace d’intimité\, de floraison de Soi. \n  \nUN OBJECTIF ?\nIncarner pleinement l’homme\, son Masculin Sacré\, unis en lui-même\, dans l’acceptation\, l’accueil\, l’action\, la liberté\, la conscience\, la profondeur\, la puissance\, être Amour. \nChaque pas est un passage\, pour s’incarner pleinement\, chaque jour un peu plus\, relié à Ce qui est. \nL’Homme s’élève\, s’éveille dans ce monde au-delà du voile de l’obscurité et de la dualité. \nC’est Renaitre\, Reconnaitre\, l’essence\, les sens\, qui nous sommes\, Re-connecter\, Re-naitre … \n  \nLE DEROULEMENT D’UNE SOIRÉE ?\nNous nous retrouverons en cercle\, autour de la Fleur de Vie. \nNous nous présenterons lors de notre première rencontre\, et à chaque retrouvaille nous ferons aussi une « météo ». \nNous prendrons un instant d’équilibrage\, de recentrage\, d’ancrage Terre-Ciel. \nNous explorerons ensuite un thème\, un sujet\, une problématique qui préoccupe un homme ou plusieurs hommes. \n  \nMON ACCOMPAGNEMENT ? \nL’ENGAGEMENT DE CHACUN ? \n  \nJe vous accompagne à grandir et à fleurir\, ensemble\, dans la Fraternité\, la Compassion et l’Amour. \nA travers un cercle de parole\, régulier\, une fois par mois\, je suis le guide\, le gardien du temps et de l’espace-temps où la parole\, la Co création\, la libération-guérison est au centre\, l’écoute de notre intériorité\, de notre vérité et de celle des autres hommes présents\, avec respect\, gratitude de ce qui est. \nUne rencontre avec « qui je suis et deviens »\, pour chacun de nous. C’est une ouverture à chaque frère\, à nos différences\, nos richesses\, un miroir de Soi. \nC’est prendre conscience de la joie de la découverte\, la compréhension de la manière d’être en relation. \nChacun de nous s’engage à être vrai\, présent\, respectueux\, contribuer à instaurer la confiance\, à être dans le non jugement de soi et les autres. \nChacun de nous s’engage\, dans ce temps régulier\, où chacun est invité à s’investir pour soi et les autres durant ces 2h chaque mois. \nDans ce même lieu qui nous accueillera au fil du temps et des rencontres. \n  \nPOURQUOI LA REGULARITÉ ?\nCe cercle est constitué d’homme de tous horizons\, dans lequel la parole est au centre\, de chacun\, est facilitée. \nNous favorisons l’expression authentique\, en parlant à partir de soi\, en prononçant le « Je » et en laissant à l’entrée du cercle\, les jeux\, les masques et les attentes. \nNous sommes ouverts à la découverte de l’instant présent\, ce qui se vit. \nNous sommes ouverts à la richesse qui s’offre\, s’accueille avec humilité et gratitude. \n  \nUN RENDEZ-VOUS \nMENSUEL \nUN JEUDI SOIR \nDE 20H30 A 22H30 \n  \nPour vous inscrire\, et/ou information complémentaire\, contactez-moi !! \nAmener votre tapis\, Cousin\, \nCouverture\, un stylo et un cahier. \nParticipation de 20 € \n  \nLA MANE\nA LA « NOUVELLE SALLE »\n9\, AVENUE DE LAGARDE\nA BALMA (31130) \navec Denis BERTRAND \nTéléphone : 06 18 88 23 77\nMail : lavoiedelasimplicite@gmail.com\nSite internet : https://lavoiedelasimplicite.fr \nFacebook : https://www.facebook.com/profile.php?id=100080414156441
URL:https://lamane-balma.com/evenement/cercle-d-hommes-juin-2023/
CATEGORIES:Ateliers
END:VEVENT
BEGIN:VEVENT
DTSTART;TZID=Europe/Paris:20230616T123000
DTEND;TZID=Europe/Paris:20230616T140000
DTSTAMP:20260420T081312
CREATED:20230529T091004Z
LAST-MODIFIED:20230529T091004Z
UID:35016-1686918600-1686924000@lamane-balma.com
SUMMARY:Apprendre à utiliser les ventouses chinoises
DESCRIPTION:Vendredi 16 juin à 12h30 \nDurée 1h30 \nDécouvrir les ventouses chinoises\, comment les utiliser\, et dans quel cas\, en famille\, à la maison.\nun atelier pratique avec des astuces pour nos maux au quotidien. \nTarif : 25€ par personne \nRenseignements et inscriptions : \navec Claire LESAGE\nTéléphone : 06 50 60 91 01\nMail : lesageclaire@yahoo.fr
URL:https://lamane-balma.com/evenement/apprendre-a-utiliser-les-ventouses-chinoises-juin-2023/
CATEGORIES:Ateliers
END:VEVENT
BEGIN:VEVENT
DTSTART;TZID=Europe/Paris:20230616T183000
DTEND;TZID=Europe/Paris:20230616T203000
DTSTAMP:20260420T081312
CREATED:20230529T092611Z
LAST-MODIFIED:20230605T075831Z
UID:35028-1686940200-1686947400@lamane-balma.com
SUMMARY:Atelier : Automassage du visage\, des mains ou des pieds
DESCRIPTION:Thème de cet atelier : Booster son immunité\nPour ceux qui souhaitent découvrir la réflexologie en se faisant des autostimulations et automassage \nAvec Brigitte Bois \nCet atelier est ouvert à tous petit et grands et peut être pratiqué en famille. \nSauf femmes enceintes\, problèmes cardiaques et vasculaires importants) \nIl vous donnera accès à des techniques d’auto-stimulations et automassages simples qui vous permettront de soulager certains maux du quotidien (système digestif\, douleurs\, migraines\, stress…). \nAprès un cours théorique\, vous aurez le plaisir de masser vos mains ! et vos pieds ! \nDurée de l’atelier : 1h30 heure – minimum 4 personnes maximum 8 personnes – \nTarif : 20 €/personne \nProgramme des ateliers : \natelier auto-stimulation:\n 16 juin    18h30 -20h00   » booster son immunité »\n 04 aout    18h30 20h      « à mieux dormir »\n 18 aout     17h0 à 18h 30 Atelier massage pieds parent/enfant\n\nAtelier à thèmes  2h\n  30 juin    18h30  20h30 apprendre à gérer son stress\n  21 juillet   18h30  20h30 Booster son système digestif\nVous découvrirez tous les ateliers et les tarifs de Balma et Launaguet sur mon agenda en ligne https://reflexologie-toulouse.com \nTéléphone : 06 70 70 00 36\nMail : brigitteboisreflexo@gmail.com\nSite internet : https://www.reflexologie-toulouse.com
URL:https://lamane-balma.com/evenement/atelier-automassage-juin-2023/
CATEGORIES:Ateliers
END:VEVENT
BEGIN:VEVENT
DTSTART;TZID=Europe/Paris:20230628T123000
DTEND;TZID=Europe/Paris:20230628T143000
DTSTAMP:20260420T081312
CREATED:20230605T085044Z
LAST-MODIFIED:20230605T085044Z
UID:35076-1687955400-1687962600@lamane-balma.com
SUMMARY:Atelier ancrage\, qi gong et do in\, automassage
DESCRIPTION:Mercredi 28 juin à 12h30 \nLors de cet atelier nous allons apprendre à s’ancrer par des exercices de QiGong et par le Do In ou automassage de certains points d’acupuncture.\nDes pratiques simples à réaliser soi-même pour apaiser les tensions\, s’ancrer et prendre un temps pour soi. \nDurée : 1h30 \nInfos et Inscriptions : \navec Claire LESAGE\nTéléphone : 06 50 60 91 01\nMail : lesageclaire@yahoo.fr
URL:https://lamane-balma.com/evenement/atelier-ancrage-qi-gong-et-do-in-automassage-2/
CATEGORIES:Ateliers
END:VEVENT
BEGIN:VEVENT
DTSTART;TZID=Europe/Paris:20230630T183000
DTEND;TZID=Europe/Paris:20230630T203000
DTSTAMP:20260420T081312
CREATED:20230605T080849Z
LAST-MODIFIED:20230605T080849Z
UID:35063-1688149800-1688157000@lamane-balma.com
SUMMARY:Atelier Initiation à la réflexologie plantaire : apprendre à gérer son stress
DESCRIPTION:Vendredi 30 juin 2023 – 18h30 – 20h30 \nThème de l’atelier : apprendre à gérer son stress\nPour ceux qui souhaitent connaître quelques bases de la réflexologie plantaire \n(Sauf femmes enceintes\, problèmes cardiaques et vasculaires importants) \n Cet atelier-formation a pour objectif de vous présenter les bases de la réflexologie plantaire. \nLes ateliers comprennent une partie théorique et une partie pratique sur table de massage. \nVous pourrez ainsi vous approprier des techniques et des gestes simples à reproduire pour un mieux-être au quotidien. \nVous aurez le plaisir de masser et d’être massé ! \nCette initiation se fera sur 2 h avec un thème défini à chaque atelier en 2 parties : \n– La 1ère Partie – Présentation de la réflexologie /les bienfaits /les contres indications/les phases préparatoires en théorie et pratiques. \n–   La 2ème Partie – Présentation des différentes zones réflexes en théories puis en pratique sur table de massage \nL’atelier se terminera par un échange ouvert autour d’une pause gourmande \n\nAtelier détox et le système digestif\nGérer ses émotions et son stress\nGérer les douleurs chroniques\nBooster son système lymphatique\n\nInfos et Inscriptions : \nBrigitte Bois :\nTéléphone : 06 70 70 00 36\nMail : brigitteboisreflexo@gmail.com\nSite internet : https://www.reflexologie-toulouse.com
URL:https://lamane-balma.com/evenement/atelier-initiation-a-la-reflexologie-plantaire-apprendre-a-gerer-son-stress/
CATEGORIES:Ateliers
END:VEVENT
END:VCALENDAR