BEGIN:VCALENDAR
VERSION:2.0
PRODID:-//La Mane Balma - ECPv6.15.20//NONSGML v1.0//EN
CALSCALE:GREGORIAN
METHOD:PUBLISH
X-WR-CALNAME:La Mane Balma
X-ORIGINAL-URL:https://lamane-balma.com
X-WR-CALDESC:Évènements pour La Mane Balma
REFRESH-INTERVAL;VALUE=DURATION:PT1H
X-Robots-Tag:noindex
X-PUBLISHED-TTL:PT1H
BEGIN:VTIMEZONE
TZID:Europe/Paris
BEGIN:DAYLIGHT
TZOFFSETFROM:+0100
TZOFFSETTO:+0200
TZNAME:CEST
DTSTART:20190331T010000
END:DAYLIGHT
BEGIN:STANDARD
TZOFFSETFROM:+0200
TZOFFSETTO:+0100
TZNAME:CET
DTSTART:20191027T010000
END:STANDARD
BEGIN:DAYLIGHT
TZOFFSETFROM:+0100
TZOFFSETTO:+0200
TZNAME:CEST
DTSTART:20200329T010000
END:DAYLIGHT
BEGIN:STANDARD
TZOFFSETFROM:+0200
TZOFFSETTO:+0100
TZNAME:CET
DTSTART:20201025T010000
END:STANDARD
BEGIN:DAYLIGHT
TZOFFSETFROM:+0100
TZOFFSETTO:+0200
TZNAME:CEST
DTSTART:20210328T010000
END:DAYLIGHT
BEGIN:STANDARD
TZOFFSETFROM:+0200
TZOFFSETTO:+0100
TZNAME:CET
DTSTART:20211031T010000
END:STANDARD
END:VTIMEZONE
BEGIN:VEVENT
DTSTART;TZID=Europe/Paris:20200603T203000
DTEND;TZID=Europe/Paris:20200603T220000
DTSTAMP:20260424T082105
CREATED:20190627T101227Z
LAST-MODIFIED:20190627T101227Z
UID:31544-1591216200-1591221600@lamane-balma.com
SUMMARY:Atelier Voyage Sonore Bols Tibétains
DESCRIPTION:Atelier Voyage Sonore\nBols Tibétains\nMercredi 3 Juin à 20h30\n \nA mi-chemin entre le concert et le soin vibratoire\nLe voyage sonore propose de retrouver sa connexion à la Terre\, à l’Univers et à son Être essentiel en conscience.\nRelaxation profonde\, harmonisation\, ressourcement\, régénération par les sons guérisseurs de la voix\, des bols tibétains\, de cristal\, du tambour amérindien\, bâton de pluie\, song pods…\nParticipation 10€ – Durée ~ 1h30\nApporter un plaid et une petite bouteille d’eau.\nRéservation au 0675938776. Nombre de places limité \n  \nIsabelle Clergue \nSoins Vibratoire \nMassages sonores www.therapie-humaniste.com
URL:https://lamane-balma.com/evenement/atelier-voyage-sonore-bols-tibetains-41/
CATEGORIES:Ateliers
END:VEVENT
BEGIN:VEVENT
DTSTART;TZID=Europe/Paris:20200604T190000
DTEND;TZID=Europe/Paris:20200604T213000
DTSTAMP:20260424T082106
CREATED:20190913T091913Z
LAST-MODIFIED:20190913T091913Z
UID:31847-1591297200-1591306200@lamane-balma.com
SUMMARY:Méditation Dansée avec Carole Alma
DESCRIPTION:
URL:https://lamane-balma.com/evenement/meditation-dansee-avec-carole-alma-8/
LOCATION:La Mane\, 9 avenue de lagarde\, Balma\, 31130\, France
CATEGORIES:Ateliers
ORGANIZER;CN="Carole Alma":MAILTO:carolealma11@gmail.com
END:VEVENT
BEGIN:VEVENT
DTSTART;TZID=Europe/Paris:20200617T200000
DTEND;TZID=Europe/Paris:20200617T223000
DTSTAMP:20260424T082106
CREATED:20190627T100421Z
LAST-MODIFIED:20190627T100421Z
UID:31523-1592424000-1592433000@lamane-balma.com
SUMMARY:Atelier intérieur - Cercle de Rencontre avec Soi
DESCRIPTION:Atelier intérieur – Cercle de Rencontre avec Soi\nMercredi 17 Juin\n\n20h – 22h30 –  20€\nA chaque atelier\, un outil ou un thème est proposé pour aller à la rencontre de son ressenti\, de son intuition\, de sa personnalité unique : Positionnement énergétique\, yoga des sons\, ancrage\, chant intuitif\, arthérapie\, accueil des rêves\, tambour amérindien\, bols tibétains\, sons en astrologie\, chakras et acupressure…et autres partages.. \nSous forme d’exercices pratiques et simples\, ces ateliers apportent compréhension et approfondissement de la connaissance de soi dans une dynamique de partage et de bienveillance.\nParticipation 20€ – Durée 2h\nRéservation et renseignements au 0675938776. Prévoir plaid et coussin. \nIsabelle Clergue\nSoins Vibratoires\nhttp://www.therapie-humaniste.com
URL:https://lamane-balma.com/evenement/atelier-interieur-cercle-de-rencontre-soi-10/
CATEGORIES:Ateliers
END:VEVENT
END:VCALENDAR