BEGIN:VCALENDAR
VERSION:2.0
PRODID:-//La Mane Balma - ECPv6.15.20//NONSGML v1.0//EN
CALSCALE:GREGORIAN
METHOD:PUBLISH
X-ORIGINAL-URL:https://lamane-balma.com
X-WR-CALDESC:Évènements pour La Mane Balma
REFRESH-INTERVAL;VALUE=DURATION:PT1H
X-Robots-Tag:noindex
X-PUBLISHED-TTL:PT1H
BEGIN:VTIMEZONE
TZID:Europe/Paris
BEGIN:DAYLIGHT
TZOFFSETFROM:+0100
TZOFFSETTO:+0200
TZNAME:CEST
DTSTART:20190331T010000
END:DAYLIGHT
BEGIN:STANDARD
TZOFFSETFROM:+0200
TZOFFSETTO:+0100
TZNAME:CET
DTSTART:20191027T010000
END:STANDARD
BEGIN:DAYLIGHT
TZOFFSETFROM:+0100
TZOFFSETTO:+0200
TZNAME:CEST
DTSTART:20200329T010000
END:DAYLIGHT
BEGIN:STANDARD
TZOFFSETFROM:+0200
TZOFFSETTO:+0100
TZNAME:CET
DTSTART:20201025T010000
END:STANDARD
BEGIN:DAYLIGHT
TZOFFSETFROM:+0100
TZOFFSETTO:+0200
TZNAME:CEST
DTSTART:20210328T010000
END:DAYLIGHT
BEGIN:STANDARD
TZOFFSETFROM:+0200
TZOFFSETTO:+0100
TZNAME:CET
DTSTART:20211031T010000
END:STANDARD
END:VTIMEZONE
BEGIN:VEVENT
DTSTART;TZID=Europe/Paris:20200304T203000
DTEND;TZID=Europe/Paris:20200304T220000
DTSTAMP:20260424T125652
CREATED:20190627T101010Z
LAST-MODIFIED:20190627T101021Z
UID:31537-1583353800-1583359200@lamane-balma.com
SUMMARY:Atelier Voyage Sonore Bols Tibétains
DESCRIPTION:Atelier Voyage Sonore\nBols Tibétains\nMercredi 4 Mars à 20h30\n \nA mi-chemin entre le concert et le soin vibratoire\nLe voyage sonore propose de retrouver sa connexion à la Terre\, à l’Univers et à son Être essentiel en conscience.\nRelaxation profonde\, harmonisation\, ressourcement\, régénération par les sons guérisseurs de la voix\, des bols tibétains\, de cristal\, du tambour amérindien\, bâton de pluie\, song pods…\nParticipation 10€ – Durée ~ 1h30\nApporter un plaid et une petite bouteille d’eau.\nRéservation au 0675938776. Nombre de places limité \n  \nIsabelle Clergue \nSoins Vibratoire \nMassages sonores www.therapie-humaniste.com
URL:https://lamane-balma.com/evenement/atelier-voyage-sonore-bols-tibetains-38/
LOCATION:La Mane\, 9 avenue de lagarde\, Balma\, 31130\, France
CATEGORIES:Ateliers
END:VEVENT
BEGIN:VEVENT
DTSTART;TZID=Europe/Paris:20200305T190000
DTEND;TZID=Europe/Paris:20200305T213000
DTSTAMP:20260424T125652
CREATED:20190913T091546Z
LAST-MODIFIED:20190913T091546Z
UID:31841-1583434800-1583443800@lamane-balma.com
SUMMARY:Méditation Dansée avec Carole Alma
DESCRIPTION:
URL:https://lamane-balma.com/evenement/meditation-dansee-avec-carole-alma-5/
LOCATION:La Mane\, 9 avenue de lagarde\, Balma\, 31130\, France
CATEGORIES:Ateliers
ORGANIZER;CN="Carole Alma":MAILTO:carolealma11@gmail.com
END:VEVENT
BEGIN:VEVENT
DTSTART;TZID=Europe/Paris:20200307T140000
DTEND;TZID=Europe/Paris:20200307T170000
DTSTAMP:20260424T125652
CREATED:20190529T101038Z
LAST-MODIFIED:20190529T101038Z
UID:31462-1583589600-1583600400@lamane-balma.com
SUMMARY:Atelier Développement de l'intuition
DESCRIPTION:
URL:https://lamane-balma.com/evenement/atelier-developpement-de-lintuition-15/
LOCATION:La Mane\, 9 avenue de lagarde\, Balma\, 31130\, France
CATEGORIES:Ateliers
ORGANIZER;CN="Delphine Muryn":MAILTO:delph.muryn@orange.fr
END:VEVENT
BEGIN:VEVENT
DTSTART;TZID=Europe/Paris:20200308T140000
DTEND;TZID=Europe/Paris:20200308T170000
DTSTAMP:20260424T125652
CREATED:20190529T101120Z
LAST-MODIFIED:20190529T101120Z
UID:31464-1583676000-1583686800@lamane-balma.com
SUMMARY:Atelier Sandy Dumont
DESCRIPTION:
URL:https://lamane-balma.com/evenement/atelier-sandy-dumont-6/
LOCATION:La Mane\, 9 avenue de lagarde\, Balma\, 31130\, France
CATEGORIES:Ateliers
END:VEVENT
BEGIN:VEVENT
DTSTART;TZID=Europe/Paris:20200318T080000
DTEND;TZID=Europe/Paris:20200318T170000
DTSTAMP:20260424T125652
CREATED:20190627T100158Z
LAST-MODIFIED:20190627T100158Z
UID:31517-1584518400-1584550800@lamane-balma.com
SUMMARY:Atelier intérieur - Cercle de Rencontre avec Soi
DESCRIPTION:Atelier intérieur – Cercle de Rencontre avec Soi\nMercredi 18 Mars\n\n20h – 22h30 –  20€\nA chaque atelier\, un outil ou un thème est proposé pour aller à la rencontre de son ressenti\, de son intuition\, de sa personnalité unique : Positionnement énergétique\, yoga des sons\, ancrage\, chant intuitif\, arthérapie\, accueil des rêves\, tambour amérindien\, bols tibétains\, sons en astrologie\, chakras et acupressure…et autres partages.. \nSous forme d’exercices pratiques et simples\, ces ateliers apportent compréhension et approfondissement de la connaissance de soi dans une dynamique de partage et de bienveillance.\nParticipation 20€ – Durée 2h\nRéservation et renseignements au 0675938776. Prévoir plaid et coussin. \nIsabelle Clergue\nSoins Vibratoires\nhttp://www.therapie-humaniste.com
URL:https://lamane-balma.com/evenement/atelier-interieur-cercle-de-rencontre-soi-7/
LOCATION:La Mane\, 9 avenue de lagarde\, Balma\, 31130\, France
CATEGORIES:Ateliers
ORGANIZER;CN="Isabelle Clergue":MAILTO:clerisa@sfr.fr
END:VEVENT
END:VCALENDAR